Workbook
Name Slicer_indicator_name: #N/A
Name Slicer_indicator_name1: #N/A
Name Slicer_total_points: #N/A
Name Slicer_total_points1: #N/A

Sheet Raw data
A1: id | B1: organisation_name | C1: organisation_code | D1: indicator_total_weighted_points | E1: indicator_id | F1: indicator_name | G1: indicator_category_name | H1: indicator_subcategory_name | I1: indicator_category_subcategory | J1: indicator_order | K1: indicator_weight | L1: iati_manual | M1: publication_format | N1: publication_format_points | O1: total_points | P1: iati_data_quality_passed | Q1: iati_data_quality_points | R1: iati_data_quality_frequency | S1: iati_data_quality_frequency_value | T1: iati_data_quality_frequency_multiplier | U1: iati_data_quality_total_points | V1: survey_publication_status | W1: survey_publication_status_value | X1: survey_ordinal_value | Y1: survey_publication_format | Z1: survey_publication_format_value | AA1: survey_total_points
A2: AT-8-dates-actual | B2: Austria, ADA | C2: AT-8 | D2: 0 | E2: dates-actual | F2: Actual dates | G2: activity | H2: basic | I2: activity-basic | J2: 17 | K2: 0.0163 | L2: manual | N2: 0 | O2: 0 | P2: 0 | Q2: 0 | S2: 1 | T2: 1 | U2: 0 | V2: not published | W2: 0 | Z2: 0 | AA2: 0
A3: AT-8-contact-details | B3: Austria, ADA | C3: AT-8 | D3: 0.543279 | E3: contact-details | F3: Contact details | G3: activity | H3: basic | I3: activity-basic | J3: 19 | K3: 0.0163 | L3: manual | M3: website | N3: 33.33 | O3: 33.33 | P3: 0 | Q3: 0 | S3: 1 | T3: 1 | U3: 0 | V3: always | W3: 1 | Y3: website | Z3: 33.33 | AA3: 33.33
A4: AT-8-current-status | B4: Austria, ADA | C4: AT-8 | D4: 0 | E4: current-status | F4: Current Status | G4: activity | H4: basic | I4: activity-basic | J4: 18 | K4: 0.0163 | L4: manual | N4: 0 | O4: 0 | P4: 0 | Q4: 0 | S4: 1 | T4: 1 | U4: 0 | V4: not published | W4: 0 | Z4: 0 | AA4: 0
A5: AT-8-description | B5: Austria, ADA | C5: AT-8 | D5: 0.543279 | E5: description | F5: Description | G5: activity | H5: basic | I5: activity-basic | J5: 15 | K5: 0.0163 | L5: manual | M5: website | N5: 33.33 | O5: 33.33 | P5: 0 | Q5: 0 | S5: 1 | T5: 1 | U5: 0 | V5: always | W5: 1 | Y5: website | Z5: 33.33 | AA5: 33.33
A6: AT-8-implementer | B6: Austria, ADA | C6: AT-8 | D6: 0.543279 | E6: implementer | F6: Implementer | G6: activity | H6: basic | I6: activity-basic | J6: 12 | K6: 0.0163 | L6: manual | M6: website | N6: 33.33 | O6: 33.33 | P6: 0 | Q6: 0 | S6: 1 | T6: 1 | U6: 0 | V6: always | W6: 1 | Y6: website | Z6: 33.33 | AA6: 33.33
A7: AT-8-dates-planned | B7: Austria, ADA | C7: AT-8 | D7: 0 | E7: dates-planned | F7: Planned dates | G7: activity | H7: basic | I7: activity-basic | J7: 16 | K7: 0.0163 | L7: manual | N7: 0 | O7: 0 | P7: 0 | Q7: 0 | S7: 1 | T7: 1 | U7: 0 | V7: not published | W7: 0 | Z7: 0 | AA7: 0
A8: AT-8-title | B8: Austria, ADA | C8: AT-8 | D8: 0.543279 | E8: title | F8: Title | G8: activity | H8: basic | I8: activity-basic | J8: 14 | K8: 0.0163 | L8: manual | M8: website | N8: 33.33 | O8: 33.33 | P8: 0 | Q8: 0 | S8: 1 | T8: 1 | U8: 0 | V8: always | W8: 1 | Y8: website | Z8: 33.33 | AA8: 33.33
A9: AT-8-unique-id | B9: Austria, ADA | C9: AT-8 | D9: 0.543279 | E9: unique-id | F9: Unique ID | G9: activity | H9: basic | I9: activity-basic | J9: 13 | K9: 0.0163 | L9: manual | M9: website | N9: 33.33 | O9: 33.33 | P9: 0 | Q9: 0 | S9: 1 | T9: 1 | U9: 0 | V9: always | W9: 1 | Y9: website | Z9: 33.33 | AA9: 33.33
A10: AT-8-aid-type | B10: Austria, ADA | C10: AT-8 | D10: 0 | E10: aid-type | F10: Aid Type | G10: activity | H10: classifications | I10: activity-classifications | J10: 22 | K10: 0.0186 | L10: manual | N10: 0 | O10: 0 | P10: 0 | Q10: 0 | S10: 1 | T10: 1 | U10: 0 | V10: not published | W10: 0 | Z10: 0 | AA10: 0
A11: AT-8-collaboration-type | B11: Austria, ADA | C11: AT-8 | D11: 0 | E11: collaboration-type | F11: Collaboration Type | G11: activity | H11: classifications | I11: activity-classifications | J11: 20 | K11: 0.0186 | L11: manual | N11: 0 | O11: 0 | P11: 0 | Q11: 0 | S11: 1 | T11: 1 | U11: 0 | V11: not published | W11: 0 | Z11: 0 | AA11: 0
A12: AT-8-finance-type | B12: Austria, ADA | C12: AT-8 | D12: 0 | E12: finance-type | F12: Finance Type | G12: activity | H12: classifications | I12: activity-classifications | J12: 23 | K12: 0.0186 | L12: manual | N12: 0 | O12: 0 | P12: 0 | Q12: 0 | S12: 1 | T12: 1 | U12: 0 | V12: not published | W12: 0 | Z12: 0 | AA12: 0
A13: AT-8-flow-type | B13: Austria, ADA | C13: AT-8 | D13: 0 | E13: flow-type | F13: Flow Type | G13: activity | H13: classifications | I13: activity-classifications | J13: 21 | K13: 0.0186 | L13: manual | N13: 0 | O13: 0 | P13: 0 | Q13: 0 | S13: 1 | T13: 1 | U13: 0 | V13: not published | W13: 0 | Z13: 0 | AA13: 0
A14: AT-8-sector | B14: Austria, ADA | C14: AT-8 | D14: 0 | E14: sector | F14: Sector | G14: activity | H14: classifications | I14: activity-classifications | J14: 24 | K14: 0.0186 | L14: manual | N14: 0 | O14: 0 | P14: 0 | Q14: 0 | S14: 1 | T14: 1 | U14: 0 | V14: not published | W14: 0 | Z14: 0 | AA14: 0
A15: AT-8-location | B15: Austria, ADA | C15: AT-8 | D15: 0 | E15: location | F15: Sub-national location | G15: activity | H15: classifications | I15: activity-classifications | J15: 25 | K15: 0.0186 | L15: manual | M15: website | N15: 0 | O15: 0 | P15: 0 | Q15: 0 | S15: 1 | T15: 1 | U15: 0 | V15: sometimes | W15: 0 | Y15: website | Z15: 33.33 | AA15: 0
A16: AT-8-tied-aid-status | B16: Austria, ADA | C16: AT-8 | D16: 0 | E16: tied-aid-status | F16: Tied Aid Status | G16: activity | H16: classifications | I16: activity-classifications | J16: 26 | K16: 0.0186 | L16: manual | N16: 0 | O16: 0 | P16: 0 | Q16: 0 | S16: 1 | T16: 1 | U16: 0 | V16: not published | W16: 0 | Z16: 0 | AA16: 0
A17: AT-8-expenditure-actual | B17: Austria, ADA | C17: AT-8 | D17: 0 | E17: expenditure-actual | F17: Disbursements and expenditure | G17: activity | H17: financial | I17: activity-financial | J17: 35 | K17: 0.0325 | L17: manual | N17: 0 | O17: 0 | P17: 0 | Q17: 0 | S17: 1 | T17: 1 | U17: 0 | V17: not published | W17: 0 | Z17: 0 | AA17: 0
A18: AT-8-cost-overall | B18: Austria, ADA | C18: AT-8 | D18: 0 | E18: cost-overall | F18: Budget | G18: activity | H18: financial | I18: activity-financial | J18: 33 | K18: 0.0325 | L18: manual | N18: 0 | O18: 0 | P18: 0 | Q18: 0 | S18: 1 | T18: 1 | U18: 0 | V18: not published | W18: 0 | Z18: 0 | AA18: 0
A19: AT-8-expenditure-planned | B19: Austria, ADA | C19: AT-8 | D19: 1.083225 | E19: expenditure-planned | F19: Commitments | G19: activity | H19: financial | I19: activity-financial | J19: 34 | K19: 0.0325 | L19: manual | M19: website | N19: 33.33 | O19: 33.33 | P19: 0 | Q19: 0 | S19: 1 | T19: 1 | U19: 0 | V19: always | W19: 1 | Y19: website | Z19: 33.33 | AA19: 33.33
A20: AT-8-budget-identifier | B20: Austria, ADA | C20: AT-8 | D20: 0 | E20: budget-identifier | F20: Budget Identifier | G20: activity | H20: financial | I20: activity-financial | J20: 36 | K20: 0.0325 | L20: manual | N20: 0 | O20: 0 | P20: 0 | Q20: 0 | S20: 1 | T20: 1 | U20: 0 | V20: not published | W20: 0 | Z20: 0 | AA20: 0
A21: AT-8-conditions | B21: Austria, ADA | C21: AT-8 | D21: 0 | E21: conditions | F21: Conditions | G21: activity | H21: performance | I21: activity-performance | J21: 39 | K21: 0.0433 | L21: manual | M21: document | N21: 0 | O21: 0 | P21: 0 | Q21: 0 | S21: 1 | T21: 1 | U21: 0 | V21: not published | W21: 0 | Y21: document | Z21: 50 | AA21: 0
A22: AT-8-impact-appraisals | B22: Austria, ADA | C22: AT-8 | D22: 0 | E22: impact-appraisals | F22: Impact Appraisals | G22: activity | H22: performance | I22: activity-performance | J22: 38 | K22: 0.0433 | L22: manual | M22: document | N22: 0 | O22: 0 | P22: 0 | Q22: 0 | S22: 1 | T22: 1 | U22: 0 | V22: not published | W22: 0 | Y22: document | Z22: 50 | AA22: 0
A23: AT-8-results | B23: Austria, ADA | C23: AT-8 | D23: 0 | E23: results | F23: Results | G23: activity | H23: performance | I23: activity-performance | J23: 37 | K23: 0.0433 | L23: manual | M23: pdf | N23: 0 | O23: 0 | P23: 0 | Q23: 0 | S23: 1 | T23: 1 | U23: 0 | V23: sometimes | W23: 0 | Y23: pdf | Z23: 16.665 | AA23: 0
A24: AT-8-budget | B24: Austria, ADA | C24: AT-8 | D24: 0 | E24: budget | F24: Budget Docs | G24: activity | H24: related-documents | I24: activity-related-documents | J24: 30 | K24: 0.0217 | L24: manual | M24: document | N24: 0 | O24: 0 | P24: 0 | Q24: 0 | S24: 1 | T24: 1 | U24: 0 | V24: not published | W24: 0 | Y24: document | Z24: 50 | AA24: 0
A25: AT-8-contracts | B25: Austria, ADA | C25: AT-8 | D25: 0 | E25: contracts | F25: Contracts | G25: activity | H25: related-documents | I25: activity-related-documents | J25: 31 | K25: 0.0217 | L25: manual | M25: document | N25: 0 | O25: 0 | P25: 0 | Q25: 0 | S25: 1 | T25: 1 | U25: 0 | V25: sometimes | W25: 0 | Y25: document | Z25: 50 | AA25: 0
A26: AT-8-evaluations | B26: Austria, ADA | C26: AT-8 | D26: 1.085 | E26: evaluations | F26: Evaluations | G26: activity | H26: related-documents | I26: activity-related-documents | J26: 28 | K26: 0.0217 | L26: manual | M26: document | N26: 50 | O26: 50 | P26: 0 | Q26: 0 | S26: 1 | T26: 1 | U26: 0 | V26: always | W26: 1 | Y26: document | Z26: 50 | AA26: 50
A27: AT-8-mou | B27: Austria, ADA | C27: AT-8 | D27: 0 | E27: mou | F27: MoU | G27: activity | H27: related-documents | I27: activity-related-documents | J27: 27 | K27: 0.0217 | L27: manual | M27: document | N27: 0 | O27: 0 | P27: 0 | Q27: 0 | S27: 1 | T27: 1 | U27: 0 | V27: not published | W27: 0 | Y27: document | Z27: 50 | AA27: 0
A28: AT-8-objectives | B28: Austria, ADA | C28: AT-8 | D28: 0 | E28: objectives | F28: Objectives | G28: activity | H28: related-documents | I28: activity-related-documents | J28: 29 | K28: 0.0217 | L28: manual | M28: document | N28: 0 | O28: 0 | P28: 0 | Q28: 0 | S28: 1 | T28: 1 | U28: 0 | V28: sometimes | W28: 0 | Y28: document | Z28: 50 | AA28: 0
A29: AT-8-tenders | B29: Austria, ADA | C29: AT-8 | D29: 1.085 | E29: tenders | F29: Tenders | G29: activity | H29: related-documents | I29: activity-related-documents | J29: 32 | K29: 0.0217 | L29: manual | M29: document | N29: 50 | O29: 50 | P29: 0 | Q29: 0 | S29: 1 | T29: 1 | U29: 0 | V29: always | W29: 1 | Y29: document | Z29: 50 | AA29: 50
A30: AT-8-audit | B30: Austria, ADA | C30: AT-8 | D30: 2.085 | E30: audit | F30: Audit | G30: organisation | H30: financial | I30: organisation-financial | J30: 11 | K30: 0.0417 | L30: manual | M30: document | N30: 50 | O30: 50 | P30: 0 | Q30: 0 | S30: 1 | T30: 1 | U30: 0 | V30: always | W30: 1 | Y30: document | Z30: 50 | AA30: 50
A31: AT-8-total-budget | B31: Austria, ADA | C31: AT-8 | D31: 0.463287 | E31: total-budget | F31: Total budget | G31: organisation | H31: financial | I31: organisation-financial | J31: 9 | K31: 0.0417 | L31: manual | M31: pdf | N31: 11.11 | O31: 11.11 | P31: 0 | Q31: 0 | S31: 1 | T31: 1 | U31: 0 | W31: 0 | X31: 2 | Y31: pdf | Z31: 16.665 | AA31: 11.11
A32: AT-8-disaggregated-budgets | B32: Austria, ADA | C32: AT-8 | D32: 2.085 | E32: disaggregated-budgets | F32: Disaggregated budgets | G32: organisation | H32: financial | I32: organisation-financial | J32: 10 | K32: 0.0417 | L32: manual | M32: machine-readable | N32: 50 | O32: 50 | P32: 0 | Q32: 0 | S32: 1 | T32: 1 | U32: 0 | W32: 0 | X32: 3 | Y32: machine-readable | Z32: 50 | AA32: 50
A33: AT-8-strategy | B33: Austria, ADA | C33: AT-8 | D33: 1.25 | E33: strategy | F33: Organisation strategy | G33: organisation | H33: planning | I33: organisation-planning | J33: 4 | K33: 0.025 | L33: manual | M33: document | N33: 50 | O33: 50 | P33: 0 | Q33: 0 | S33: 1 | T33: 1 | U33: 0 | V33: always | W33: 1 | Y33: document | Z33: 50 | AA33: 50
A34: AT-8-annual-report | B34: Austria, ADA | C34: AT-8 | D34: 1.25 | E34: annual-report | F34: Annual report | G34: organisation | H34: planning | I34: organisation-planning | J34: 5 | K34: 0.025 | L34: manual | M34: document | N34: 50 | O34: 50 | P34: 0 | Q34: 0 | S34: 1 | T34: 1 | U34: 0 | V34: always | W34: 1 | Y34: document | Z34: 50 | AA34: 50
A35: AT-8-allocation | B35: Austria, ADA | C35: AT-8 | D35: 1.25 | E35: allocation | F35: Allocation policy | G35: organisation | H35: planning | I35: organisation-planning | J35: 6 | K35: 0.025 | L35: manual | M35: document | N35: 50 | O35: 50 | P35: 0 | Q35: 0 | S35: 1 | T35: 1 | U35: 0 | V35: always | W35: 1 | Y35: document | Z35: 50 | AA35: 50
A36: AT-8-procurement-policy | B36: Austria, ADA | C36: AT-8 | D36: 1.25 | E36: procurement-policy | F36: Procurement policy | G36: organisation | H36: planning | I36: organisation-planning | J36: 7 | K36: 0.025 | L36: manual | M36: document | N36: 50 | O36: 50 | P36: 0 | Q36: 0 | S36: 1 | T36: 1 | U36: 0 | V36: always | W36: 1 | Y36: document | Z36: 50 | AA36: 50
A37: AT-8-country-strategy | B37: Austria, ADA | C37: AT-8 | D37: 1.25 | E37: country-strategy | F37: Country strategy | G37: organisation | H37: planning | I37: organisation-planning | J37: 8 | K37: 0.025 | L37: manual | M37: document | N37: 50 | O37: 50 | P37: 0 | Q37: 0 | S37: 1 | T37: 1 | U37: 0 | V37: always | W37: 1 | Y37: document | Z37: 50 | AA37: 50
A38: AT-8-foia | B38: Austria, ADA | C38: AT-8 | D38: 1.109889 | E38: foia | F38: FOIA | G38: commitment | I38: commitment- | J38: 1 | K38: 0.0333 | L38: manual | M38: not-applicable | N38: 33.33 | O38: 33.33 | P38: 0 | Q38: 0 | S38: 1 | T38: 1 | U38: 0 | W38: 0 | X38: 33.33 | Z38: 0 | AA38: 33.33
A39: AT-8-accessibility | B39: Austria, ADA | C39: AT-8 | D39: 1.109889 | E39: accessibility | F39: Accessibility | G39: commitment | I39: commitment- | J39: 3 | K39: 0.0333 | L39: manual | M39: not-applicable | N39: 33.33 | O39: 33.33 | P39: 0 | Q39: 0 | S39: 1 | T39: 1 | U39: 0 | W39: 0 | X39: 33.33 | Z39: 0 | AA39: 33.33
A40: AT-8-implementation-schedules | B40: Austria, ADA | C40: AT-8 | D40: 0 | E40: implementation-schedules | F40: Implementation schedules | G40: commitment | I40: commitment- | J40: 2 | K40: 0.0333 | L40: manual | M40: not-applicable | N40: 0 | O40: 0 | P40: 0 | Q40: 0 | S40: 1 | T40: 1 | U40: 0 | W40: 0 | X40: 0 | Z40: 0 | AA40: 0
...

Sheet Indicators used
A1: Summary table of indicators
A3: Category | B3: Sub-category | C3: Indicator Name | D3: Scoring Approach | E3: Weight
A4: Commitment to aid transparency | B4: Commitment | C4: 1. Quality of FOI legislation (FOIA) | D4: Graduated based on the score given in Right To Information (RTI) Rating (see: http://www.rti-rating.org/). The complete approach to assessing and scoring FOIA and disclosure policy quality can be found in the technical paper available online. | E4: 0.0333
C5: 2. Implementation schedules | D5: Graduated based on the total score received out of 100 based on analysis of Busan common standard/IATI implementation schedules. | E5: 0.0333
C6: 3. Accessibility | D6: Graduated based on three criteria: allows free bulk export of data; provides disaggregated, detailed data on activities; and data is released under an open licence. Each criterion carries 33.33% of the total possible score on this indicator. | E6: 0.0333
A7: Publication – Organisation level | B7: Planning | C7: 4. Strategy | D7: Graduated based on accessibility | E7: 0.025
C8: 5. Annual report | D8: Graduated based on accessibility | E8: 0.025
C9: 6. Allocation policy | D9: Graduated based on accessibility | E9: 0.025
C10: 7. Procurement policy | D10: Graduated based on accessibility | E10: 0.025
C11: 8. Strategy (country) | D11: Graduated based on accessibility | E11: 0.025
B12: Financial | C12: 9. Total organisation budget | D12: Graduated based on format and number of years for which data is provided | E12: 0.0417
C13: 10. Disaggregated budget | D13: Graduated based on format and number of years for which data is provided | E13: 0.0417
C14: 11. Audit | D14: Graduated based on accessibility | E14: 0.0417
A15: Publication – Activity level | B15: Basic activity information | C15: 12. Implementer | D15: Graduated based on format | E15: 0.0163
C16: 13. Unique ID | D16: Graduated based on format | E16: 0.0163
C17: 14. Title | D17: Graduated based on format | E17: 0.0163
C18: 15. Description | D18: Graduated based on format | E18: 0.0163
C19: 16. Planned dates | D19: Graduated based on format | E19: 0.0163
C20: 17. Actual dates | D20: Graduated based on format | E20: 0.0163
C21: 18. Current status | D21: Graduated based on format | E21: 0.0163
C22: 19. Contact details | D22: Graduated based on format | E22: 0.0163
B23: Classifications | C23: 20. Collaboration type | D23: Graduated based on format | E23: 0.0186
C24: 21. Flow type | D24: Graduated based on format | E24: 0.0186
C25: 22. Aid type | D25: Graduated based on format | E25: 0.0186
C26: 23. Finance type | D26: Graduated based on format | E26: 0.0186
C27: 24. Sectors | D27: Graduated based on format | E27: 0.0186
C28: 25. Sub-national location | D28: Graduated based on format | E28: 0.0186
C29: 26. Tied aid status | D29: Graduated based on format | E29: 0.0186
B30: Related documents | C30: 27. Memorandum of Understanding (MoU) | D30: Graduated based on accessibility | E30: 0.0217
C31: 28. Evaluations | D31: Graduated based on accessibility | E31: 0.0217
C32: 29. Objectives | D32: Graduated based on accessibility | E32: 0.0217
C33: 30. Budget docs | D33: Graduated based on accessibility | E33: 0.0217
C34: 31. Contracts | D34: Graduated based on accessibility | E34: 0.0217
C35: 32. Tenders | D35: Graduated based on accessibility | E35: 0.0217
B36: Financial | C36: 33. Budget | D36: Graduated based on format | E36: 0.0325
C37: 34. Commitments | D37: Graduated based on format | E37: 0.0325
C38: 35. Disbursements & expenditures | D38: Graduated based on format | E38: 0.0325
C39: 36. Budget Identifier (Budget ID) | D39: Graduated based on format | E39: 0.0325
B40: Performance | C40: 37. Results | D40: Graduated based on format | E40: 0.0433
C41: 38. Impact appraisals | D41: Graduated based on accessibility | E41: 0.0433
...

Sheet Donor Attributes
A1: Org ID | B1: Donor Long Name | C1: Donor short name | D1: Bilateral/Multilateral/Foundation | E1: IFI | F1: Health Funds | G1: Humanitarian | H1: EU Member State/EC Institution | I1: US Agency | J1: UN Agency | K1: DAC Membership Status | L1: IATI Publisher | M1: IATI Steering Committee Membership | N1: Frequency of IATI Publication as on data collection deadline | O1: Frequency of IATI publication as per IATI Annual Report 2014 | P1: Implementation Schedule incl. IATI | Q1: % of fields to be published in IS schedules analysis | R1: Date of 1st publication | S1: Signatory/Member Since | T1: G7 | U1: OGP and National Action Plan (NAP) status | V1: OAP | W1: EU-13 | X1: Total ODA Spend in 2012 (in USD mn) | Y1: Total OOF Spend in 2012 (USD n) | Z1: Total Spend in 2012 | AA1: Source for Total Spend | AB1: Largest ODA Recipient in 2012 | AC1: Source for largest recipient data
A2: 46002 | B2: African Development Bank | C2: AfDB | D2: Multilateral | E2: IFI | L2: IATI publisher | M2: IATI Member | N2: Quarterly | O2: Quarterly | P2: Y | Q2: 94 | R2: Jul-13 | S2: 40575 | U2: Not Applicable | V2: OAP | X2: =114+2434 -> 2548 | Y2: 3510.1136 | Z2: =SUM(Table1[[#This Row],[Total ODA Spend in 2012 (in USD mn)]:[Total OOF Spend in 2012 (USD n)]]) -> 6058.1136 | AA2: DAC CRS 2012 | AB2: Guinea | AC2: DAC CRS 2012
A3: 46004 | B3: Asian Development Bank | C3: AsDB | D3: Multilateral | E3: IFI | L3: IATI publisher | N3: Quarterly | O3: Quarterly | P3: Y | Q3: 91 | R3: Nov-11 | U3: Not Applicable | X3: 1834.7696 | Y3: 6899.6631 | Z3: =SUM(Table1[[#This Row],[Total ODA Spend in 2012 (in USD mn)]:[Total OOF Spend in 2012 (USD n)]]) -> 8734.4328 | AA3: DAC CRS 2012 | AB3: Bangladesh | AC3: DAC CRS 2012
A4: AU-5 | B4: Australia - Department of Foreign Affairs and Trade | C4: Australia, DFAT | D4: Bilateral | K4: DAC Member | L4: IATI publisher | M4: IATI Member | N4: Quarterly | O4: Quarterly | P4: Y | Q4: 38 | R4: Sep-11 | S4: 39692 | U4: OGP - Developing 1st NAP | X4: 4045.8022 | Y4: 42.746273 | Z4: =SUM(Table1[[#This Row],[Total ODA Spend in 2012 (in USD mn)]:[Total OOF Spend in 2012 (USD n)]]) -> 4088.5485 | AA4: DAC CRS 2012 | AB4: Indonesia | AC4: DAC CRS 2012
A5: AT-8 | B5: Austria - Austrian Development Agency | C5: Austria, ADA | D5: Bilateral | H5: EU MS | K5: DAC Member | U5: Not joined OGP | X5: 87.746475 | Z5: =SUM(Table1[[#This Row],[Total ODA Spend in 2012 (in USD mn)]:[Total OOF Spend in 2012 (USD n)]]) -> 87.746475 | AA5: DAC CRS 2012 | AB5: Uganda | AC5: DAC CRS 2012
A6: BE-10 | B6: Belgium - Belgian Development Agency | C6: Belgium, DGCD | D6: Bilateral | H6: EU MS | K6: DAC Member | M6: IATI Member | S6: 41214 | U6: Not joined OGP | X6: 801.97877 | Y6: 3.0157969 | Z6: =SUM(Table1[[#This Row],[Total ODA Spend in 2012 (in USD mn)]:[Total OOF Spend in 2012 (USD n)]]) -> 804.99457 | AA6: DAC CRS 2012 | AB6: Democratic Republic of Congo | AC6: DAC CRS 2012
A7: BR-1 | B7: Brazil - Brazilian Cooperation Agency | C7: Brazil, ABC | D7: Bilateral | U7: OGP with NAP but does not include aid transparency commitments | X7: 499.7 | Z7: =SUM(Table1[[#This Row],[Total ODA Spend in 2012 (in USD mn)]:[Total OOF Spend in 2012 (USD n)]]) -> 499.7 | AA7: OECD 2012/ IPEA & ABC | AB7: Mozambique | AC7: https://www.devex.com/news/setting-its-own-course-brazil-foreign-aid-expands-and-evolves-78631
A8: BG-1 | B8: Bulgaria - Ministry of Foreign Affairs | C8: Bulgaria, MFA | D8: Bilateral | H8: EU MS | K8: Non DAC Donor reporting aid stats to DAC | U8: OGP with NAP but does not include aid transparency commitments | W8: EU-13 | X8: 39.95 | Z8: =SUM(Table1[[#This Row],[Total ODA Spend in 2012 (in USD mn)]:[Total OOF Spend in 2012 (USD n)]]) -> 39.95 | AA8: OECD NDD 2012 | AB8: Armenia | AC8: http://www.euroresources.org/guide/donor_profiles/bg_bulgaria.html
A9: CA-1 | B9: Canada - Department of Foreign Affairs, Trade and Development | C9: Canada, DFATD | D9: Bilateral | K9: DAC Member | L9: IATI publisher | M9: IATI Member | N9: Quarterly | O9: Quarterly | P9: Y | Q9: 94 | R9: Oct-12 | S9: 40848 | T9: G7 | U9: OGP with NAP that includes aid transparency | V9: OAP | X9: 3099 | Z9: =SUM(Table1[[#This Row],[Total ODA Spend in 2012 (in USD mn)]:[Total OOF Spend in 2012 (USD n)]]) -> 3099 | AA9: DAC CRS 2012 | AB9: Mozambique | AC9: DAC CRS 2012
A10: CN-1 | B10: China - Ministry of Commerce | C10: China, MOFCOM | D10: Bilateral | U10: Not joined OGP | X10: 2644.2 | Z10: =SUM(Table1[[#This Row],[Total ODA Spend in 2012 (in USD mn)]:[Total OOF Spend in 2012 (USD n)]]) -> 2644.2 | AA10: OECD 2012/Fiscal year book Ministry of Finance | AB10: Ghana | AC10: http://www.cgdev.org/sites/default/files/chinese-development-finance-africa_0.pdf
A11: HR-1 | B11: Croatia - Ministry of Foreign and European Affairs | C11: Croatia, MFA | D11: Bilateral | H11: EU MS | U11: OGP with NAP but does not include aid transparency commitments | W11: EU-13 | X11: 21 | Z11: =SUM(Table1[[#This Row],[Total ODA Spend in 2012 (in USD mn)]:[Total OOF Spend in 2012 (USD n)]]) -> 21 | AA11: http://ec.europa.eu/europeaid/what/development-policies/financing_for_development/documents/accountability-report-2013/2013_croatia_donor_profile_en.pdf | AB11: Bosnia and Herzegovina | AC11: http://ec.europa.eu/europeaid/what/development-policies/financing_for_development/documents/accountability-report-2013/2013_croatia_donor_profile_en.pdf
A12: CY-1 | B12: Cyprus - CyprusAid | C12: Cyprus, CyprusAid | D12: Bilateral | H12: EU MS | K12: Non DAC Donor reporting aid stats to DAC | U12: Not joined OGP | W12: EU-13 | X12: 25.08 | Z12: =SUM(Table1[[#This Row],[Total ODA Spend in 2012 (in USD mn)]:[Total OOF Spend in 2012 (USD n)]]) -> 25.08 | AA12: OECD NDD 2012 | AB12: Bosnia and Herzegovina | AC12: http://www.cyprusaid.gov.cy/planning/cyprusaid.nsf/all/DAB6D9BBCC7DEF8DC2257C36003CD833/$file/2012%20-%20ENGLISH.pdf?openelement
A13: CZ-1 | B13: Czech Republic - Development Agency | C13: Czech Republic, CzDA | D13: Bilateral | H13: EU MS | K13: DAC Member | P13: Y | Q13: 79 | U13: OGP with NAP but does not include aid transparency commitments (in 2nd NAP) | V13: OAP | W13: EU-13 | X13: 21.734204 | Z13: =SUM(Table1[[#This Row],[Total ODA Spend in 2012 (in USD mn)]:[Total OOF Spend in 2012 (USD n)]]) -> 21.734204 | AA13: DAC CRS 2012 | AB13: Moldova | AC13: DAC CRS 2012
A14: DK-2 | B14: Denmark - Ministry of Foreign Affairs | C14: Denmark, MFA | D14: Bilateral | H14: EU MS | K14: DAC Member | L14: IATI publisher | M14: IATI Member | N14: Quarterly | O14: Annually | P14: Y | Q14: 68 | R14: Jan-13 | S14: 39692 | U14: OGP with NAP but does not include aid transparency commitments | X14: 1992.2299 | Y14: 36.982159 | Z14: =SUM(Table1[[#This Row],[Total ODA Spend in 2012 (in USD mn)]:[Total OOF Spend in 2012 (USD n)]]) -> 2029.2121 | AA14: DAC CRS 2012 | AB14: Tanzania | AC14: DAC CRS 2012
A15: 46015 | B15: European Bank of Reconstruction and Development | C15: EBRD | D15: Multilateral | E15: IFI | U15: Not Applicable | Y15: 3336.3201 | Z15: =SUM(Table1[[#This Row],[Total ODA Spend in 2012 (in USD mn)]:[Total OOF Spend in 2012 (USD n)]]) -> 3336.3201 | AA15: DAC CRS 2012 | AB15: Turkey | AC15: DAC CRS 2012
A16: EU-1 | B16: DG Development and Cooperation - EuropeAid | C16: EC, DEVCO | D16: Multilateral | H16: EU Institution | K16: DAC Member | L16: IATI publisher | M16: IATI Member | N16: Quarterly | O16: Monthly | P16: Y | Q16: 87 | R16: 40817 | S16: 39692 | U16: Not Applicable | X16: 12477.82 | Z16: =SUM(Table1[[#This Row],[Total ODA Spend in 2012 (in USD mn)]:[Total OOF Spend in 2012 (USD n)]]) -> 12477.82 | AA16: Europeaid 2012 Annual Report (page 184) | AB16: Afghanistan | AC16: Europeaid 2012 Annual Report (page 199)
A17: EU-4 | B17: DG Humanitarian Aid and Civil Protection | C17: EC, ECHO | D17: Multilateral | G17: Humanitarian | H17: EU Institution | K17: DAC Member | L17: IATI publisher | M17: IATI Member | N17: Quarterly | O17: Quarterly | P17: Y | Q17: 59 | R17: Jul-13 | S17: 39692 | U17: Not Applicable | X17: 1775.81 | Z17: =SUM(Table1[[#This Row],[Total ODA Spend in 2012 (in USD mn)]:[Total OOF Spend in 2012 (USD n)]]) -> 1775.81 | AA17: http://ec.europa.eu/echo/files/funding/figures/budget_implementation/AnnexVIII.pdf | AB17: Sudan | AC17: http://ec.europa.eu/echo/files/funding/figures/budget_implementation/AnnexVIII.pdf
A18: EU-5 | B18: DG Enlargement | C18: EC, ELARG | D18: Multilateral | H18: EU Institution | K18: DAC Member | L18: IATI publisher | M18: IATI Member | N18: Monthly | O18: Monthly | P18: Y | Q18: 77 | R18: Jul-13 | S18: 39692 | U18: Not Applicable | X18: 2462.14 | Z18: =SUM(Table1[[#This Row],[Total ODA Spend in 2012 (in USD mn)]:[Total OOF Spend in 2012 (USD n)]]) -> 2462.14 | AA18: http://ec.europa.eu/enlargement/instruments/overview/index_en.htm | AB18: Serbia | AC18: http://ec.europa.eu/enlargement/instruments/overview/index_en.htm
A19: EU-6 | B19: Service for Foreign Policy Instruments | C19: EC, FPI | D19: Multilateral | H19: EU Institution | K19: DAC Member | L19: IATI publisher | M19: IATI Member | N19: Quarterly | O19: Annually | P19: Y | Q19: 91 | R19: Jul-13 | S19: 39692 | U19: Not Applicable | X19: 303 | Z19: =SUM(Table1[[#This Row],[Total ODA Spend in 2012 (in USD mn)]:[Total OOF Spend in 2012 (USD n)]]) -> 303 | AA19: http://ec.europa.eu/dgs/fpi/documents/fpi_activity_report_2012_en.pdf | AB19: Needs checking with Mindy
A20: 42004 | B20: European Investment Bank | C20: EIB | D20: Multilateral | E20: IFI | H20: EU Institution | K20: DAC Member | M20: IATI Member | S20: 41558 | U20: Not Applicable | X20: 6050.1593 | Y20: 775.59517 | Z20: =SUM(Table1[[#This Row],[Total ODA Spend in 2012 (in USD mn)]:[Total OOF Spend in 2012 (USD n)]]) -> 6825.7545 | AA20: DAC CRS 2012 | AB20: Turkey | AC20: DAC CRS 2012
A21: EE-1 | B21: Estonia - Ministry of Foreign Affairs | C21: Estonia, MFA | D21: Bilateral | H21: EU MS | K21: Non DAC Donor reporting aid stats to DAC | U21: OGP with NAP but does not include aid transparency commitments | V21: OAP | W21: EU-13 | X21: 23.24 | Z21: =SUM(Table1[[#This Row],[Total ODA Spend in 2012 (in USD mn)]:[Total OOF Spend in 2012 (USD n)]]) -> 23.24 | AA21: OECD NDD 2012 | AB21: Afghanistan | AC21: http://www.vm.ee/?q=en/node/14944
A22: FI-3 | B22: Finland - Ministry of Foreign Affairs | C22: Finland, MFA | D22: Bilateral | H22: EU MS | K22: DAC Member | L22: IATI publisher | M22: IATI Member | N22: Quarterly | O22: Quarterly | P22: Y | Q22: 46 | R22: 40848 | S22: 39692 | U22: OGP with NAP but does not include aid transparency commitments | V22: OAP | X22: 730.50915 | Z22: =SUM(Table1[[#This Row],[Total ODA Spend in 2012 (in USD mn)]:[Total OOF Spend in 2012 (USD n)]]) -> 730.50915 | AA22: DAC CRS 2012 | AB22: Mozambique | AC22: DAC CRS 2012
A23: FR-3 | B23: France - French Development Agency | C23: France, AFD | D23: Bilateral | H23: EU MS | K23: DAC Member | L23: IATI publisher- but non-comprehensive publication | P23: Y | Q23: 62 | R23: 41640 | T23: G7 | U23: OGP - Developing 1st NAP | X23: 4299.6 | Y23: 1272.3439 | Z23: =SUM(Table1[[#This Row],[Total ODA Spend in 2012 (in USD mn)]:[Total OOF Spend in 2012 (USD n)]]) -> 5571.9439 | AA23: DAC CRS 2012 | AB23: Brazil | AC23: DAC CRS 2012
A24: FR-6 | B24: France - Ministry of Foreign Affairs and International Development | C24: France, MAEDI | D24: Bilateral | H24: EU MS | K24: DAC Member | L24: IATI publisher | N24: Quarterly | O24: NA | P24: Y | Q24: 25 | R24: 41640 | T24: G7 | U24: OGP - Developing 1st NAP | X24: 985.62706 | Z24: =SUM(Table1[[#This Row],[Total ODA Spend in 2012 (in USD mn)]:[Total OOF Spend in 2012 (USD n)]]) -> 985.62706 | AA24: DAC CRS 2012 | AB24: Morocco | AC24: DAC CRS 2012
A25: FR-10 | B25: France - Ministry of Economics, Finance and Industry | C25: France, MINEFI | D25: Bilateral | H25: EU MS | K25: DAC Member | L25: ? | P25: Y | Q25: 13 | T25: G7 | U25: OGP - Developing 1st NAP | X25: 1921.4262 | Z25: =SUM(Table1[[#This Row],[Total ODA Spend in 2012 (in USD mn)]:[Total OOF Spend in 2012 (USD n)]]) -> 1921.4262 | AA25: DAC CRS 2012 | AB25: Cote d'Ivoire | AC25: DAC CRS 2012
A26: US-EIN-562618866 | B26: The Bill and Melinda Gates Foundation | C26: Gates Foundation | D26: PFT | L26: IATI publisher | M26: IATI Member | N26: Less than quarterly | O26: NA | P26: Y | Q26: 73 | R26: 41699 | S26: 41548 | U26: Not Applicable | X26: 2372 | Z26: =SUM(Table1[[#This Row],[Total ODA Spend in 2012 (in USD mn)]:[Total OOF Spend in 2012 (USD n)]]) -> 2372 | AA26: DAC CRS 2012 | AB26: Global Development | AC26: 2012 Annual Report
A27: 47122 | B27: GAVI | C27: GAVI | D27: Multilateral | F27: Health | L27: IATI publisher | N27: Monthly | O27: Quarterly | P27: Y | Q27: 98 | R27: Jan-12 | U27: Not Applicable | X27: 1068.2603 | Z27: =SUM(Table1[[#This Row],[Total ODA Spend in 2012 (in USD mn)]:[Total OOF Spend in 2012 (USD n)]]) -> 1068.2603 | AA27: DAC CRS 2012 | AB27: Pakistan | AC27: DAC CRS 2012
A28: DE-1 | B28: Germany - Ministry for Economic Cooperation and Development - GIZ | C28: Germany, BMZ-GIZ | D28: Bilateral | H28: EU MS | K28: DAC Member | L28: IATI publisher | M28: IATI Member | N28: Quarterly | O28: Six-monthly | P28: Y | Q28: 56 | R28: Mar-13 | S28: 39692 | T28: G7 | U28: Not joined OGP | X28: 5780.12 | Z28: =SUM(Table1[[#This Row],[Total ODA Spend in 2012 (in USD mn)]:[Total OOF Spend in 2012 (USD n)]]) -> 5780.12 | AA28: DAC CRS 2012 | AB28: Kenya | AC28: DAC CRS 2012
A29: DE-2 | B29: Germany - Ministry for Economic Cooperation and Development - KfW | C29: Germany, BMZ-KfW | D29: Bilateral | H29: EU MS | K29: DAC Member | L29: IATI publisher | M29: IATI Member | N29: Quarterly | O29: Six-monthly | P29: Y | Q29: 56 | R29: Mar-13 | S29: 39692 | T29: G7 | U29: Not joined OGP | X29: 885.1111 | Y29: 433.81923 | Z29: =SUM(Table1[[#This Row],[Total ODA Spend in 2012 (in USD mn)]:[Total OOF Spend in 2012 (USD n)]]) -> 1318.9303 | AA29: DAC CRS 2012 | AB29: China | AC29: DAC CRS 2012
A30: DE-11 | B30: Germany - Foreign Office | C30: Germany, AA | D30: Bilateral | H30: EU MS | K30: DAC Member | P30: Y | Q30: 56 | R30: Mar-13 | S30: 39692 | T30: G7 | U30: Not joined OGP | X30: 1055.9044 | Z30: =SUM(Table1[[#This Row],[Total ODA Spend in 2012 (in USD mn)]:[Total OOF Spend in 2012 (USD n)]]) -> 1055.9044 | AA30: DAC CRS 2012 | AB30: Afghanistan | AC30: DAC CRS 2012
A31: 47045 | B31: The Global Fund to Fight AIDS, Tuberculosis and Malaria | C31: Global Fund | D31: Multilateral | F31: Health | L31: IATI publisher | M31: IATI Member | N31: Monthly | O31: Monthly | P31: Y | Q31: 71 | R31: Nov-11 | S31: 40695 | U31: Not Applicable | X31: 3358.845 | Z31: =SUM(Table1[[#This Row],[Total ODA Spend in 2012 (in USD mn)]:[Total OOF Spend in 2012 (USD n)]]) -> 3358.845 | AA31: DAC CRS 2012 | AB31: Nigeria | AC31: DAC CRS 2012
A32: GR-3 | B32: Greece - HellenicAid | C32: Greece, HellenicAid | D32: Bilateral | H32: EU MS | K32: DAC Member | U32: OGP with NAP but does not include aid transparency commitments | X32: 107.31433 | Z32: =SUM(Table1[[#This Row],[Total ODA Spend in 2012 (in USD mn)]:[Total OOF Spend in 2012 (USD n)]]) -> 107.31433 | AA32: DAC CRS 2012 | AB32: Albania | AC32: DAC CRS 2012
A33: HU-1 | B33: Hungary - Ministry of Foreign Affairs | C33: Hungary, MFA | D33: Bilateral | H33: EU MS | K33: Non DAC Donor reporting aid stats to DAC | U33: OGP with NAP but does not include aid transparency commitments | W33: EU-13 | X33: 118.38 | Z33: =SUM(Table1[[#This Row],[Total ODA Spend in 2012 (in USD mn)]:[Total OOF Spend in 2012 (USD n)]]) -> 118.38 | AA33: OECD NDD 2012 | AB33: Ukraine | AC33: http://www.kormany.hu/download/e/cf/f0000/Magyarorsz%C3%A1g%202012%20%C3%A9vi%20nemzetk%C3%B6zi%20fejleszt%C3%A9si%20%C3%A9s%20humanit%C3%A1rius%20seg%C3%ADts%C3%A9gny%C3%BAjt%C3%A1si%20tev%C3%A9kenys%C3%A9g%C3%A9r%C5%91l.pdf
A34: 46012 | B34: Inter-American Development Bank | C34: IADB | D34: Multilateral | E34: IFI | L34: IATI publisher | M34: IATI Member | N34: Quarterly | O34: Quarterly | P34: Y | Q34: 74 | R34: Mar-13 | S34: 40848 | U34: OGP Observer | X34: 1606.0488 | Y34: 6508.4571 | Z34: =SUM(Table1[[#This Row],[Total ODA Spend in 2012 (in USD mn)]:[Total OOF Spend in 2012 (USD n)]]) -> 8114.5059 | AA34: DAC CRS 2012 | AB34: Honduras | AC34: DAC CRS 2012
A35: 43000 | B35: International Monetary Fund | C35: IMF | D35: Multilateral | E35: IFI | U35: Not Applicable | X35: 1506.447 | Z35: =SUM(Table1[[#This Row],[Total ODA Spend in 2012 (in USD mn)]:[Total OOF Spend in 2012 (USD n)]]) -> 1506.447 | AA35: DAC CRS 2012 | AB35: Cote d'Ivoire | AC35: DAC CRS 2012
A36: IE-1 | B36: Ireland - Irish Aid | C36: Ireland, Irish Aid | D36: Bilateral | H36: EU MS | K36: DAC Member | L36: IATI publisher | M36: IATI Member | N36: Less than quarterly | O36: NA | P36: Y | Q36: 59 | R36: Jul-13 | S36: 39692 | U36: OGP with NAP but does not include aid transparency commitments | X36: 528.4234 | Z36: =SUM(Table1[[#This Row],[Total ODA Spend in 2012 (in USD mn)]:[Total OOF Spend in 2012 (USD n)]]) -> 528.4234 | AA36: DAC CRS 2012 | AB36: Mozambique | AC36: DAC CRS 2012
A37: IT-4 | B37: Italy - Ministry of Foreign Affairs and International Cooperation | C37: Italy, MAE | D37: Bilateral | H37: EU MS | K37: DAC Member | T37: G7 | U37: OGP with NAP but does not include aid transparency commitments | X37: 252.76032 | Z37: =SUM(Table1[[#This Row],[Total ODA Spend in 2012 (in USD mn)]:[Total OOF Spend in 2012 (USD n)]]) -> 252.76032 | AA37: DAC CRS 2012 | AB37: Afghanistan | AC37: DAC CRS 2012
A38: JP-8 | B38: Japan - Japan International Cooperation Agency | C38: Japan, JICA | D38: Bilateral | K38: DAC Member | L38: IATI publisher | N38: Less than quarterly | O38: NA | R38: 41791 | T38: G7 | U38: Not joined OGP | X38: 10066.53 | Z38: =SUM(Table1[[#This Row],[Total ODA Spend in 2012 (in USD mn)]:[Total OOF Spend in 2012 (USD n)]]) -> 10066.53 | AA38: DAC CRS 2012 | AB38: Vietnam | AC38: DAC CRS 2012
A39: JP-2 | B39: Japan, Ministry of Foreign Affairs | C39: Japan, MOFA | D39: Bilateral | K39: DAC Member | L39: IATI publisher - but no current data | R39: 41791 | T39: G7 | U39: Not joined OGP | X39: 3886.1268 | Z39: =SUM(Table1[[#This Row],[Total ODA Spend in 2012 (in USD mn)]:[Total OOF Spend in 2012 (USD n)]]) -> 3886.1268 | AA39: DAC CRS 2012 | AB39: Afghanistan | AC39: DAC CRS 2012
A40: KR-4 | B40: Korea - Korean International Cooperation Agency | C40: Korea, KOICA | D40: Bilateral | K40: DAC Member | U40: OGP with NAP but does not include aid transparency commitments | X40: 444.53731 | Z40: =SUM(Table1[[#This Row],[Total ODA Spend in 2012 (in USD mn)]:[Total OOF Spend in 2012 (USD n)]]) -> 444.53731 | AA40: DAC CRS 2012 | AB40: Mongolia | AC40: DAC CRS 2012
...

Sheet Overall scores and ranking
A1: Overall scores and ranking
A3: Row Labels | B3: Sum of indicator_total_weighted_points | C3: Rank in 2014 | D3: Performance group
A4: UNDP | B4: 90.637112 | C4: =RANK(B4,$B$4:$B$71,0) -> 1 | D4: =IF(B4>79.99,"Very good",IF(B4>59.99,"Good",IF(B4>39.99,"Fair",IF(B4>19.99,"Poor","Very Poor")))) -> Very good
A5: UK, DFID | B5: 88.33674 | C5: =RANK(B5,$B$4:$B$71,0) -> 2 | D5: =IF(B5>79.99,"Very good",IF(B5>59.99,"Good",IF(B5>39.99,"Fair",IF(B5>19.99,"Poor","Very Poor")))) -> Very good
A6: U.S., MCC | B6: 86.894622 | C6: =RANK(B6,$B$4:$B$71,0) -> 3 | D6: =IF(B6>79.99,"Very good",IF(B6>59.99,"Good",IF(B6>39.99,"Fair",IF(B6>19.99,"Poor","Very Poor")))) -> Very good
A7: GAVI | B7: 86.745722 | C7: =RANK(B7,$B$4:$B$71,0) -> 4 | D7: =IF(B7>79.99,"Very good",IF(B7>59.99,"Good",IF(B7>39.99,"Fair",IF(B7>19.99,"Poor","Very Poor")))) -> Very good
A8: AsDB | B8: 83.842838 | C8: =RANK(B8,$B$4:$B$71,0) -> 5 | D8: =IF(B8>79.99,"Very good",IF(B8>59.99,"Good",IF(B8>39.99,"Fair",IF(B8>19.99,"Poor","Very Poor")))) -> Very good
A9: Sweden, MFA-Sida | B9: 83.27401 | C9: =RANK(B9,$B$4:$B$71,0) -> 6 | D9: =IF(B9>79.99,"Very good",IF(B9>59.99,"Good",IF(B9>39.99,"Fair",IF(B9>19.99,"Poor","Very Poor")))) -> Very good
A10: World Bank, IDA | B10: 82.268961 | C10: =RANK(B10,$B$4:$B$71,0) -> 7 | D10: =IF(B10>79.99,"Very good",IF(B10>59.99,"Good",IF(B10>39.99,"Fair",IF(B10>19.99,"Poor","Very Poor")))) -> Very good
A11: AfDB | B11: 74.516029 | C11: =RANK(B11,$B$4:$B$71,0) -> 8 | D11: =IF(B11>79.99,"Very good",IF(B11>59.99,"Good",IF(B11>39.99,"Fair",IF(B11>19.99,"Poor","Very Poor")))) -> Good
A12: IADB | B12: 73.917398 | C12: =RANK(B12,$B$4:$B$71,0) -> 9 | D12: =IF(B12>79.99,"Very good",IF(B12>59.99,"Good",IF(B12>39.99,"Fair",IF(B12>19.99,"Poor","Very Poor")))) -> Good
A13: Global Fund | B13: 73.298105 | C13: =RANK(B13,$B$4:$B$71,0) -> 10 | D13: =IF(B13>79.99,"Very good",IF(B13>59.99,"Good",IF(B13>39.99,"Fair",IF(B13>19.99,"Poor","Very Poor")))) -> Good
A14: Canada, DFATD | B14: 71.671349 | C14: =RANK(B14,$B$4:$B$71,0) -> 11 | D14: =IF(B14>79.99,"Very good",IF(B14>59.99,"Good",IF(B14>39.99,"Fair",IF(B14>19.99,"Poor","Very Poor")))) -> Good
A15: EC, FPI | B15: 69.076055 | C15: =RANK(B15,$B$4:$B$71,0) -> 12 | D15: =IF(B15>79.99,"Very good",IF(B15>59.99,"Good",IF(B15>39.99,"Fair",IF(B15>19.99,"Poor","Very Poor")))) -> Good
... A71: China, MOFCOM | B71: 2.219778 | C71: =RANK(B71,$B$4:$B$71,0) -> 68 | D71: =IF(B71>79.99,"Very good",IF(B71>59.99,"Good",IF(B71>39.99,"Fair",IF(B71>19.99,"Poor","Very Poor")))) -> Very Poor
A72: Dynamic average | B72: =SUBTOTAL(1,B4:B71) -> 38.92705

Sheet Table of performance groups
A1: Performance Groups
A3: Very good | C3: Good | E3: Fair | G3: Poor | I3: Very poor
A4: (scores of 80 - 100%) | C4: (scores 60 - 79%) | E4: (scores 40 - 59%) | G4: (scores of 20 -39%) | I4: (scores 0 - 19%)
A5: UNDP | B5: =VLOOKUP(A5,'Overall scores and ranking'!$A$4:$B$71,2,FALSE) -> 90.637112 | C5: AfDB | D5: =VLOOKUP(C5,'Overall scores and ranking'!$A$4:$B$71,2,FALSE) -> 74.516029 | E5: EC, ECHO | F5: =VLOOKUP(E5,'Overall scores and ranking'!$A$4:$B$71,2,FALSE) -> 59.913797 | G5: U.S., State | H5: =VLOOKUP(G5,'Overall scores and ranking'!$A$4:$B$71,2,FALSE) -> 38.802452 | I5: Austria, ADA | J5: =VLOOKUP(I5,'Overall scores and ranking'!$A$4:$B$71,2,FALSE) -> 19.072685
A6: UK, DFID | B6: =VLOOKUP(A6,'Overall scores and ranking'!$A$4:$B$71,2,FALSE) -> 88.33674 | C6: IADB | D6: =VLOOKUP(C6,'Overall scores and ranking'!$A$4:$B$71,2,FALSE) -> 73.917398 | E6: Germany, BMZ-GIZ | F6: =VLOOKUP(E6,'Overall scores and ranking'!$A$4:$B$71,2,FALSE) -> 53.922389 | G6: Japan, JICA | H6: =VLOOKUP(G6,'Overall scores and ranking'!$A$4:$B$71,2,FALSE) -> 37.214129 | I6: Latvia, MFA | J6: =VLOOKUP(I6,'Overall scores and ranking'!$A$4:$B$71,2,FALSE) -> 19.032906
A7: U.S., MCC | B7: =VLOOKUP(A7,'Overall scores and ranking'!$A$4:$B$71,2,FALSE) -> 86.894622 | C7: Global Fund | D7: =VLOOKUP(C7,'Overall scores and ranking'!$A$4:$B$71,2,FALSE) -> 73.298105 | E7: Switzerland, SDC | F7: =VLOOKUP(E7,'Overall scores and ranking'!$A$4:$B$71,2,FALSE) -> 53.780289 | G7: Korea, KOICA | H7: =VLOOKUP(G7,'Overall scores and ranking'!$A$4:$B$71,2,FALSE) -> 36.894751 | I7: Belgium, DGCD | J7: =VLOOKUP(I7,'Overall scores and ranking'!$A$4:$B$71,2,FALSE) -> 18.846489
A8: GAVI | B8: =VLOOKUP(A8,'Overall scores and ranking'!$A$4:$B$71,2,FALSE) -> 86.745722 | C8: Canada, DFATD | D8: =VLOOKUP(C8,'Overall scores and ranking'!$A$4:$B$71,2,FALSE) -> 71.671349 | E8: Netherlands, MFA | F8: =VLOOKUP(E8,'Overall scores and ranking'!$A$4:$B$71,2,FALSE) -> 53.764272 | G8: UK, FCO | H8: =VLOOKUP(G8,'Overall scores and ranking'!$A$4:$B$71,2,FALSE) -> 35.797104 | I8: Luxembourg, MFA | J8: =VLOOKUP(I8,'Overall scores and ranking'!$A$4:$B$71,2,FALSE) -> 18.812664
A9: AsDB | B9: =VLOOKUP(A9,'Overall scores and ranking'!$A$4:$B$71,2,FALSE) -> 83.842838 | C9: EC, FPI | D9: =VLOOKUP(C9,'Overall scores and ranking'!$A$4:$B$71,2,FALSE) -> 69.076055 | E9: Germany, BMZ-KFW | F9: =VLOOKUP(E9,'Overall scores and ranking'!$A$4:$B$71,2,FALSE) -> 50.82419 | G9: U.S., Treasury | H9: =VLOOKUP(G9,'Overall scores and ranking'!$A$4:$B$71,2,FALSE) -> 34.828499 | I9: Slovakia, SAIDC | J9: =VLOOKUP(I9,'Overall scores and ranking'!$A$4:$B$71,2,FALSE) -> 18.250667
A10: Sweden, MFA-Sida | B10: =VLOOKUP(A10,'Overall scores and ranking'!$A$4:$B$71,2,FALSE) -> 83.27401 | C10: EC, DEVCO | D10: =VLOOKUP(C10,'Overall scores and ranking'!$A$4:$B$71,2,FALSE) -> 68.230852 | E10: Spain, MAEC | F10: =VLOOKUP(E10,'Overall scores and ranking'!$A$4:$B$71,2,FALSE) -> 50.598213 | G10: IMF | H10: =VLOOKUP(G10,'Overall scores and ranking'!$A$4:$B$71,2,FALSE) -> 31.595882 | I10: Slovenia, MFA | J10: =VLOOKUP(I10,'Overall scores and ranking'!$A$4:$B$71,2,FALSE) -> 17.784163
A11: World Bank, IDA | B11: =VLOOKUP(A11,'Overall scores and ranking'!$A$4:$B$71,2,FALSE) -> 82.268961 | C11: UNICEF | D11: =VLOOKUP(C11,'Overall scores and ranking'!$A$4:$B$71,2,FALSE) -> 64.648943 | E11: Denmark, MFA | F11: =VLOOKUP(E11,'Overall scores and ranking'!$A$4:$B$71,2,FALSE) -> 49.639004 | G11: U.S., Defense | H11: =VLOOKUP(G11,'Overall scores and ranking'!$A$4:$B$71,2,FALSE) -> 30.75631 | I11: Japan, MOFA | J11: =VLOOKUP(I11,'Overall scores and ranking'!$A$4:$B$71,2,FALSE) -> 17.012574
C12: EC, ELARG | D12: =VLOOKUP(C12,'Overall scores and ranking'!$A$4:$B$71,2,FALSE) -> 61.767921 | E12: Gates Foundation | F12: =VLOOKUP(E12,'Overall scores and ranking'!$A$4:$B$71,2,FALSE) -> 46.551687 | G12: World Bank, IFC | H12: =VLOOKUP(G12,'Overall scores and ranking'!$A$4:$B$71,2,FALSE) -> 30.61791 | I12: Italy, MAE | J12: =VLOOKUP(I12,'Overall scores and ranking'!$A$4:$B$71,2,FALSE) -> 15.646044
E13: Finland, MFA | F13: =VLOOKUP(E13,'Overall scores and ranking'!$A$4:$B$71,2,FALSE) -> 46.27284 | G13: Czech Republic, CzDA | H13: =VLOOKUP(G13,'Overall scores and ranking'!$A$4:$B$71,2,FALSE) -> 29.48981 | I13: Poland, MFA | J13: =VLOOKUP(I13,'Overall scores and ranking'!$A$4:$B$71,2,FALSE) -> 14.359406
E14: Australia, DFAT | F14: =VLOOKUP(E14,'Overall scores and ranking'!$A$4:$B$71,2,FALSE) -> 45.91219 | G14: Estonia, MFA | H14: =VLOOKUP(G14,'Overall scores and ranking'!$A$4:$B$71,2,FALSE) -> 28.23122 | I14: Croatia, MFA | J14: =VLOOKUP(I14,'Overall scores and ranking'!$A$4:$B$71,2,FALSE) -> 11.814868
E15: New Zealand, MFAT | F15: =VLOOKUP(E15,'Overall scores and ranking'!$A$4:$B$71,2,FALSE) -> 45.121547 | G15: Norway, MFA | H15: =VLOOKUP(G15,'Overall scores and ranking'!$A$4:$B$71,2,FALSE) -> 27.648544 | I15: Romania, MFA | J15: =VLOOKUP(I15,'Overall scores and ranking'!$A$4:$B$71,2,FALSE) -> 10.551111
E16: Ireland, IrishAid | F16: =VLOOKUP(E16,'Overall scores and ranking'!$A$4:$B$71,2,FALSE) -> 42.46807 | G16: Portugal, CICL | H16: =VLOOKUP(G16,'Overall scores and ranking'!$A$4:$B$71,2,FALSE) -> 26.544537 | I16: France, MINEFI | J16: =VLOOKUP(I16,'Overall scores and ranking'!$A$4:$B$71,2,FALSE) -> 10.301158
E17: France, MAEDI | F17: =VLOOKUP(E17,'Overall scores and ranking'!$A$4:$B$71,2,FALSE) -> 42.402737 | G17: France, AFD | H17: =VLOOKUP(G17,'Overall scores and ranking'!$A$4:$B$71,2,FALSE) -> 24.667978 | I17: Brazil, ABC | J17: =VLOOKUP(I17,'Overall scores and ranking'!$A$4:$B$71,2,FALSE) -> 9.64616
E18: UN OCHA | F18: =VLOOKUP(E18,'Overall scores and ranking'!$A$4:$B$71,2,FALSE) -> 41.297012 | G18: EIB | H18: =VLOOKUP(G18,'Overall scores and ranking'!$A$4:$B$71,2,FALSE) -> 24.577409 | I18: UK, MOD | J18: =VLOOKUP(I18,'Overall scores and ranking'!$A$4:$B$71,2,FALSE) -> 9.628287
E19: U.S., PEPFAR | F19: =VLOOKUP(E19,'Overall scores and ranking'!$A$4:$B$71,2,FALSE) -> 40.666519 | G19: EBRD | H19: =VLOOKUP(G19,'Overall scores and ranking'!$A$4:$B$71,2,FALSE) -> 24.502646 | I19: Germany, AA | J19: =VLOOKUP(I19,'Overall scores and ranking'!$A$4:$B$71,2,FALSE) -> 9.1154985
E20: U.S., USAID | F20: =VLOOKUP(E20,'Overall scores and ranking'!$A$4:$B$71,2,FALSE) -> 40.312334 | I20: Hungary, MFA | J20: =VLOOKUP(I20,'Overall scores and ranking'!$A$4:$B$71,2,FALSE) -> 8.304778
I21: Bulgaria, MFA | J21: =VLOOKUP(I21,'Overall scores and ranking'!$A$4:$B$71,2,FALSE) -> 8.165
I22: Malta, MFA | J22: =VLOOKUP(I22,'Overall scores and ranking'!$A$4:$B$71,2,FALSE) -> 6.589716
I23: Lithuania, MFA | J23: =VLOOKUP(I23,'Overall scores and ranking'!$A$4:$B$71,2,FALSE) -> 6.513057
I24: Cyprus, CyprusAid | J24: =VLOOKUP(I24,'Overall scores and ranking'!$A$4:$B$71,2,FALSE) -> 5.909659
I25: Greece, HellenicAid | J25: =VLOOKUP(I25,'Overall scores and ranking'!$A$4:$B$71,2,FALSE) -> 4.719778
I26: China, MOFCOM | J26: =VLOOKUP(I26,'Overall scores and ranking'!$A$4:$B$71,2,FALSE) -> 2.219778
A28: Average score | B28: =AVERAGE(B5:B11) -> 86.000001 | D28: =AVERAGE(D5:D12) -> 69.640832 | F28: =AVERAGE(F5:F20) -> 47.715443 | H28: =AVERAGE(H5:H19) -> 30.811279 | J28: =AVERAGE(J5:J26) -> 11.922566

Sheet Comparison 2013 & 2014
B1: Comparison of scores and rank in 2013 and 2014
A3: Org ID | B3: Donor Short Name | C3: Overall Score in 2013 | D3: Overall Score in 2014 | E3: Difference in scores | F3: Sparkline | G3: Rank in 2014 | H3: Rank in 2013 | I3: Movement in ranking | J3: Sparkline2
A4: 41114 | B4: UNDP | C4: =VLOOKUP('Comparison 2013 & 2014'!A4,'2013 ATI summary data'!$A$1:$C$69,3,FALSE) -> 83.380783 | D4: =VLOOKUP(B4,'Overall scores and ranking'!$A$4:$B$71,2,FALSE) -> 90.637112 | E4: =D4-C4 -> 7.2563286 | G4: =VLOOKUP(B4,'Overall scores and ranking'!$A$3:$C$71,3,FALSE) -> 1 | H4: =VLOOKUP(Table3[[#This Row],[Org ID]],'2013 ATI summary data'!$A$1:$D$69,4,FALSE) -> 4 | I4: =Table3[[#This Row],[Rank in 2013]]-Table3[[#This Row],[Rank in 2014]] -> 3
A5: GB-1 | B5: UK, DFID | C5: =VLOOKUP('Comparison 2013 & 2014'!A5,'2013 ATI summary data'!$A$1:$C$69,3,FALSE) -> 83.489193 | D5: =VLOOKUP(B5,'Overall scores and ranking'!$A$4:$B$71,2,FALSE) -> 88.33674 | E5: =D5-C5 -> 4.8475478 | G5: =VLOOKUP(B5,'Overall scores and ranking'!$A$3:$C$71,3,FALSE) -> 2 | H5: =VLOOKUP(Table3[[#This Row],[Org ID]],'2013 ATI summary data'!$A$1:$D$69,4,FALSE) -> 3 | I5: =Table3[[#This Row],[Rank in 2013]]-Table3[[#This Row],[Rank in 2014]] -> 1
A6: US-18 | B6: U.S., MCC | C6: =VLOOKUP('Comparison 2013 & 2014'!A6,'2013 ATI summary data'!$A$1:$C$69,3,FALSE) -> 88.877779 | D6: =VLOOKUP(B6,'Overall scores and ranking'!$A$4:$B$71,2,FALSE) -> 86.894622 | E6: =D6-C6 -> -1.9831561 | G6: =VLOOKUP(B6,'Overall scores and ranking'!$A$3:$C$71,3,FALSE) -> 3 | H6: =VLOOKUP(Table3[[#This Row],[Org ID]],'2013 ATI summary data'!$A$1:$D$69,4,FALSE) -> 1 | I6: =Table3[[#This Row],[Rank in 2013]]-Table3[[#This Row],[Rank in 2014]] -> -2
A7: 47122 | B7: GAVI | C7: =VLOOKUP('Comparison 2013 & 2014'!A7,'2013 ATI summary data'!$A$1:$C$69,3,FALSE) -> 87.261089 | D7: =VLOOKUP(B7,'Overall scores and ranking'!$A$4:$B$71,2,FALSE) -> 86.745722 | E7: =D7-C7 -> -0.51536679 | G7: =VLOOKUP(B7,'Overall scores and ranking'!$A$3:$C$71,3,FALSE) -> 4 | H7: =VLOOKUP(Table3[[#This Row],[Org ID]],'2013 ATI summary data'!$A$1:$D$69,4,FALSE) -> 2 | I7: =Table3[[#This Row],[Rank in 2013]]-Table3[[#This Row],[Rank in 2014]] -> -2
A8: 46004 | B8: AsDB | C8: =VLOOKUP('Comparison 2013 & 2014'!A8,'2013 ATI summary data'!$A$1:$C$69,3,FALSE) -> 57.643516 | D8: =VLOOKUP(B8,'Overall scores and ranking'!$A$4:$B$71,2,FALSE) -> 83.842838 | E8: =D8-C8 -> 26.199322 | G8: =VLOOKUP(B8,'Overall scores and ranking'!$A$3:$C$71,3,FALSE) -> 5 | H8: =VLOOKUP(Table3[[#This Row],[Org ID]],'2013 ATI summary data'!$A$1:$D$69,4,FALSE) -> 10 | I8: =Table3[[#This Row],[Rank in 2013]]-Table3[[#This Row],[Rank in 2014]] -> 5
A9: SE-6 | B9: Sweden, MFA-Sida | C9: =VLOOKUP('Comparison 2013 & 2014'!A9,'2013 ATI summary data'!$A$1:$C$69,3,FALSE) -> 60.37929 | D9: =VLOOKUP(B9,'Overall scores and ranking'!$A$4:$B$71,2,FALSE) -> 83.27401 | E9: =D9-C9 -> 22.894719 | G9: =VLOOKUP(B9,'Overall scores and ranking'!$A$3:$C$71,3,FALSE) -> 6 | H9: =VLOOKUP(Table3[[#This Row],[Org ID]],'2013 ATI summary data'!$A$1:$D$69,4,FALSE) -> 9 | I9: =Table3[[#This Row],[Rank in 2013]]-Table3[[#This Row],[Rank in 2014]] -> 3
A10: 44002 | B10: World Bank, IDA | C10: =VLOOKUP('Comparison 2013 & 2014'!A10,'2013 ATI summary data'!$A$1:$C$69,3,FALSE) -> 73.811279 | D10: =VLOOKUP(B10,'Overall scores and ranking'!$A$4:$B$71,2,FALSE) -> 82.268961 | E10: =D10-C10 -> 8.4576825 | G10: =VLOOKUP(B10,'Overall scores and ranking'!$A$3:$C$71,3,FALSE) -> 7 | H10: =VLOOKUP(Table3[[#This Row],[Org ID]],'2013 ATI summary data'!$A$1:$D$69,4,FALSE) -> 5 | I10: =Table3[[#This Row],[Rank in 2013]]-Table3[[#This Row],[Rank in 2014]] -> -2
A11: 46002 | B11: AfDB | C11: =VLOOKUP('Comparison 2013 & 2014'!A11,'2013 ATI summary data'!$A$1:$C$69,3,FALSE) -> 63.696395 | D11: =VLOOKUP(B11,'Overall scores and ranking'!$A$4:$B$71,2,FALSE) -> 74.516029 | E11: =D11-C11 -> 10.819634 | G11: =VLOOKUP(B11,'Overall scores and ranking'!$A$3:$C$71,3,FALSE) -> 8 | H11: =VLOOKUP(Table3[[#This Row],[Org ID]],'2013 ATI summary data'!$A$1:$D$69,4,FALSE) -> 7 | I11: =Table3[[#This Row],[Rank in 2013]]-Table3[[#This Row],[Rank in 2014]] -> -1
A12: 46012 | B12: IADB | C12: =VLOOKUP('Comparison 2013 & 2014'!A12,'2013 ATI summary data'!$A$1:$C$69,3,FALSE) -> 57.111155 | D12: =VLOOKUP(B12,'Overall scores and ranking'!$A$4:$B$71,2,FALSE) -> 73.917398 | E12: =D12-C12 -> 16.806243 | G12: =VLOOKUP(B12,'Overall scores and ranking'!$A$3:$C$71,3,FALSE) -> 9 | H12: =VLOOKUP(Table3[[#This Row],[Org ID]],'2013 ATI summary data'!$A$1:$D$69,4,FALSE) -> 11 | I12: =Table3[[#This Row],[Rank in 2013]]-Table3[[#This Row],[Rank in 2014]] -> 2
A13: 47045 | B13: Global Fund | C13: =VLOOKUP('Comparison 2013 & 2014'!A13,'2013 ATI summary data'!$A$1:$C$69,3,FALSE) -> 70.647757 | D13: =VLOOKUP(B13,'Overall scores and ranking'!$A$4:$B$71,2,FALSE) -> 73.298105 | E13: =D13-C13 -> 2.6503484 | G13: =VLOOKUP(B13,'Overall scores and ranking'!$A$3:$C$71,3,FALSE) -> 10 | H13: =VLOOKUP(Table3[[#This Row],[Org ID]],'2013 ATI summary data'!$A$1:$D$69,4,FALSE) -> 6 | I13: =Table3[[#This Row],[Rank in 2013]]-Table3[[#This Row],[Rank in 2014]] -> -4
A14: CA-1 | B14: Canada, DFATD | C14: =VLOOKUP('Comparison 2013 & 2014'!A14,'2013 ATI summary data'!$A$1:$C$69,3,FALSE) -> 62.581767 | D14: =VLOOKUP(B14,'Overall scores and ranking'!$A$4:$B$71,2,FALSE) -> 71.671349 | E14: =D14-C14 -> 9.0895819 | G14: =VLOOKUP(B14,'Overall scores and ranking'!$A$3:$C$71,3,FALSE) -> 11 | H14: =VLOOKUP(Table3[[#This Row],[Org ID]],'2013 ATI summary data'!$A$1:$D$69,4,FALSE) -> 8 | I14: =Table3[[#This Row],[Rank in 2013]]-Table3[[#This Row],[Rank in 2014]] -> -3
A15: EU-6 | B15: EC, FPI | C15: =VLOOKUP('Comparison 2013 & 2014'!A15,'2013 ATI summary data'!$A$1:$C$69,3,FALSE) -> 51.14313 | D15: =VLOOKUP(B15,'Overall scores and ranking'!$A$4:$B$71,2,FALSE) -> 69.076055 | E15: =D15-C15 -> 17.932924 | G15: =VLOOKUP(B15,'Overall scores and ranking'!$A$3:$C$71,3,FALSE) -> 12 | H15: =VLOOKUP(Table3[[#This Row],[Org ID]],'2013 ATI summary data'!$A$1:$D$69,4,FALSE) -> 14 | I15: =Table3[[#This Row],[Rank in 2013]]-Table3[[#This Row],[Rank in 2014]] -> 2
A16: EU-1 | B16: EC, DEVCO | C16: =VLOOKUP('Comparison 2013 & 2014'!A16,'2013 ATI summary data'!$A$1:$C$69,3,FALSE) -> 52.106287 | D16: =VLOOKUP(B16,'Overall scores and ranking'!$A$4:$B$71,2,FALSE) -> 68.230852 | E16: =D16-C16 -> 16.124565 | G16: =VLOOKUP(B16,'Overall scores and ranking'!$A$3:$C$71,3,FALSE) -> 13 | H16: =VLOOKUP(Table3[[#This Row],[Org ID]],'2013 ATI summary data'!$A$1:$D$69,4,FALSE) -> 13 | I16: =Table3[[#This Row],[Rank in 2013]]-Table3[[#This Row],[Rank in 2014]] -> 0
A17: 41122 | B17: UNICEF | C17: =VLOOKUP('Comparison 2013 & 2014'!A17,'2013 ATI summary data'!$A$1:$C$69,3,FALSE) -> 44.310619 | D17: =VLOOKUP(B17,'Overall scores and ranking'!$A$4:$B$71,2,FALSE) -> 64.648943 | E17: =D17-C17 -> 20.338323 | G17: =VLOOKUP(B17,'Overall scores and ranking'!$A$3:$C$71,3,FALSE) -> 14 | H17: =VLOOKUP(Table3[[#This Row],[Org ID]],'2013 ATI summary data'!$A$1:$D$69,4,FALSE) -> 21 | I17: =Table3[[#This Row],[Rank in 2013]]-Table3[[#This Row],[Rank in 2014]] -> 7
A18: EU-5 | B18: EC, ELARG | C18: =VLOOKUP('Comparison 2013 & 2014'!A18,'2013 ATI summary data'!$A$1:$C$69,3,FALSE) -> 48.076029 | D18: =VLOOKUP(B18,'Overall scores and ranking'!$A$4:$B$71,2,FALSE) -> 61.767921 | E18: =D18-C18 -> 13.691892 | G18: =VLOOKUP(B18,'Overall scores and ranking'!$A$3:$C$71,3,FALSE) -> 15 | H18: =VLOOKUP(Table3[[#This Row],[Org ID]],'2013 ATI summary data'!$A$1:$D$69,4,FALSE) -> 17 | I18: =Table3[[#This Row],[Rank in 2013]]-Table3[[#This Row],[Rank in 2014]] -> 2
A19: EU-4 | B19: EC, ECHO | C19: =VLOOKUP('Comparison 2013 & 2014'!A19,'2013 ATI summary data'!$A$1:$C$69,3,FALSE) -> 54.240429 | D19: =VLOOKUP(B19,'Overall scores and ranking'!$A$4:$B$71,2,FALSE) -> 59.913797 | E19: =D19-C19 -> 5.6733678 | G19: =VLOOKUP(B19,'Overall scores and ranking'!$A$3:$C$71,3,FALSE) -> 16 | H19: =VLOOKUP(Table3[[#This Row],[Org ID]],'2013 ATI summary data'!$A$1:$D$69,4,FALSE) -> 12 | I19: =Table3[[#This Row],[Rank in 2013]]-Table3[[#This Row],[Rank in 2014]] -> -4
A20: DE-1 | B20: Germany, BMZ-GIZ | C20: =VLOOKUP('Comparison 2013 & 2014'!A20,'2013 ATI summary data'!$A$1:$C$69,3,FALSE) -> 45.904409 | D20: =VLOOKUP(B20,'Overall scores and ranking'!$A$4:$B$71,2,FALSE) -> 53.922389 | E20: =D20-C20 -> 8.0179801 | G20: =VLOOKUP(B20,'Overall scores and ranking'!$A$3:$C$71,3,FALSE) -> 17 | H20: =VLOOKUP(Table3[[#This Row],[Org ID]],'2013 ATI summary data'!$A$1:$D$69,4,FALSE) -> 20 | I20: =Table3[[#This Row],[Rank in 2013]]-Table3[[#This Row],[Rank in 2014]] -> 3
A21: CH-4 | B21: Switzerland, SDC | C21: =VLOOKUP('Comparison 2013 & 2014'!A21,'2013 ATI summary data'!$A$1:$C$69,3,FALSE) -> 18.080025 | D21: =VLOOKUP(B21,'Overall scores and ranking'!$A$4:$B$71,2,FALSE) -> 53.780289 | E21: =D21-C21 -> 35.700264 | G21: =VLOOKUP(B21,'Overall scores and ranking'!$A$3:$C$71,3,FALSE) -> 18 | H21: =VLOOKUP(Table3[[#This Row],[Org ID]],'2013 ATI summary data'!$A$1:$D$69,4,FALSE) -> 44 | I21: =Table3[[#This Row],[Rank in 2013]]-Table3[[#This Row],[Rank in 2014]] -> 26
A22: NL-1 | B22: Netherlands, MFA | C22: =VLOOKUP('Comparison 2013 & 2014'!A22,'2013 ATI summary data'!$A$1:$C$69,3,FALSE) -> 49.368529 | D22: =VLOOKUP(B22,'Overall scores and ranking'!$A$4:$B$71,2,FALSE) -> 53.764272 | E22: =D22-C22 -> 4.3957427 | G22: =VLOOKUP(B22,'Overall scores and ranking'!$A$3:$C$71,3,FALSE) -> 19 | H22: =VLOOKUP(Table3[[#This Row],[Org ID]],'2013 ATI summary data'!$A$1:$D$69,4,FALSE) -> 16 | I22: =Table3[[#This Row],[Rank in 2013]]-Table3[[#This Row],[Rank in 2014]] -> -3
A23: DE-2 | B23: Germany, BMZ-KfW | C23: =VLOOKUP('Comparison 2013 & 2014'!A23,'2013 ATI summary data'!$A$1:$C$69,3,FALSE) -> 43.712645 | D23: =VLOOKUP(B23,'Overall scores and ranking'!$A$4:$B$71,2,FALSE) -> 50.82419 | E23: =D23-C23 -> 7.1115446 | G23: =VLOOKUP(B23,'Overall scores and ranking'!$A$3:$C$71,3,FALSE) -> 20 | H23: =VLOOKUP(Table3[[#This Row],[Org ID]],'2013 ATI summary data'!$A$1:$D$69,4,FALSE) -> 23 | I23: =Table3[[#This Row],[Rank in 2013]]-Table3[[#This Row],[Rank in 2014]] -> 3
A24: ES-5 | B24: Spain, MAEC | C24: =VLOOKUP('Comparison 2013 & 2014'!A24,'2013 ATI summary data'!$A$1:$C$69,3,FALSE) -> 17.412668 | D24: =VLOOKUP(B24,'Overall scores and ranking'!$A$4:$B$71,2,FALSE) -> 50.598213 | E24: =D24-C24 -> 33.185545 | G24: =VLOOKUP(B24,'Overall scores and ranking'!$A$3:$C$71,3,FALSE) -> 21 | H24: =VLOOKUP(Table3[[#This Row],[Org ID]],'2013 ATI summary data'!$A$1:$D$69,4,FALSE) -> 47 | I24: =Table3[[#This Row],[Rank in 2013]]-Table3[[#This Row],[Rank in 2014]] -> 26
A25: DK-2 | B25: Denmark, MFA | C25: =VLOOKUP('Comparison 2013 & 2014'!A25,'2013 ATI summary data'!$A$1:$C$69,3,FALSE) -> 50.701194 | D25: =VLOOKUP(B25,'Overall scores and ranking'!$A$4:$B$71,2,FALSE) -> 49.639004 | E25: =D25-C25 -> -1.0621904 | G25: =VLOOKUP(B25,'Overall scores and ranking'!$A$3:$C$71,3,FALSE) -> 22 | H25: =VLOOKUP(Table3[[#This Row],[Org ID]],'2013 ATI summary data'!$A$1:$D$69,4,FALSE) -> 15 | I25: =Table3[[#This Row],[Rank in 2013]]-Table3[[#This Row],[Rank in 2014]] -> -7
A26: US-EIN-562618866 | B26: Gates Foundation | C26: =VLOOKUP('Comparison 2013 & 2014'!A26,'2013 ATI summary data'!$A$1:$C$69,3,FALSE) -> 18.118106 | D26: =VLOOKUP(B26,'Overall scores and ranking'!$A$4:$B$71,2,FALSE) -> 46.551687 | E26: =D26-C26 -> 28.433581 | G26: =VLOOKUP(B26,'Overall scores and ranking'!$A$3:$C$71,3,FALSE) -> 23 | H26: =VLOOKUP(Table3[[#This Row],[Org ID]],'2013 ATI summary data'!$A$1:$D$69,4,FALSE) -> 43 | I26: =Table3[[#This Row],[Rank in 2013]]-Table3[[#This Row],[Rank in 2014]] -> 20
A27: FI-3 | B27: Finland, MFA | C27: =VLOOKUP('Comparison 2013 & 2014'!A27,'2013 ATI summary data'!$A$1:$C$69,3,FALSE) -> 22.987038 | D27: =VLOOKUP(B27,'Overall scores and ranking'!$A$4:$B$71,2,FALSE) -> 46.27284 | E27: =D27-C27 -> 23.285802 | G27: =VLOOKUP(B27,'Overall scores and ranking'!$A$3:$C$71,3,FALSE) -> 24 | H27: =VLOOKUP(Table3[[#This Row],[Org ID]],'2013 ATI summary data'!$A$1:$D$69,4,FALSE) -> 39 | I27: =Table3[[#This Row],[Rank in 2013]]-Table3[[#This Row],[Rank in 2014]] -> 15
A28: AU-5 | B28: Australia, DFAT | C28: =VLOOKUP('Comparison 2013 & 2014'!A28,'2013 ATI summary data'!$A$1:$C$69,3,FALSE) -> 43.117779 | D28: =VLOOKUP(B28,'Overall scores and ranking'!$A$4:$B$71,2,FALSE) -> 45.91219 | E28: =D28-C28 -> 2.7944109 | G28: =VLOOKUP(B28,'Overall scores and ranking'!$A$3:$C$71,3,FALSE) -> 25 | H28: =VLOOKUP(Table3[[#This Row],[Org ID]],'2013 ATI summary data'!$A$1:$D$69,4,FALSE) -> 24 | I28: =Table3[[#This Row],[Rank in 2013]]-Table3[[#This Row],[Rank in 2014]] -> -1
A29: NZ-2 | B29: New Zealand, MFAT | C29: =VLOOKUP('Comparison 2013 & 2014'!A29,'2013 ATI summary data'!$A$1:$C$69,3,FALSE) -> 47.763189 | D29: =VLOOKUP(B29,'Overall scores and ranking'!$A$4:$B$71,2,FALSE) -> 45.121547 | E29: =D29-C29 -> -2.6416418 | G29: =VLOOKUP(B29,'Overall scores and ranking'!$A$3:$C$71,3,FALSE) -> 26 | H29: =VLOOKUP(Table3[[#This Row],[Org ID]],'2013 ATI summary data'!$A$1:$D$69,4,FALSE) -> 18 | I29: =Table3[[#This Row],[Rank in 2013]]-Table3[[#This Row],[Rank in 2014]] -> -8
... A31: FR-6 | B31: France, MAEDI | C31: =VLOOKUP('Comparison 2013 & 2014'!A31,'2013 ATI summary data'!$A$1:$C$69,3,FALSE) -> 13.254708 | D31: =VLOOKUP(B31,'Overall scores and ranking'!$A$4:$B$71,2,FALSE) -> 42.402737 | E31: =D31-C31 -> 29.148029 | G31: =VLOOKUP(B31,'Overall scores and ranking'!$A$3:$C$71,3,FALSE) -> 28 | H31: =VLOOKUP(Table3[[#This Row],[Org ID]],'2013 ATI summary data'!$A$1:$D$69,4,FALSE) -> 52 | I31: =Table3[[#This Row],[Rank in 2013]]-Table3[[#This Row],[Rank in 2014]] -> 24
